BEGIN:VCALENDAR
METHOD:REQUEST
PRODID:Microsoft Exchange Server 2010
VERSION:2.0
BEGIN:VTIMEZONE
TZID:GMT Standard Time
BEGIN:STANDARD
DTSTART:16010101T020000
TZOFFSETFROM:+0100
TZOFFSETTO:+0000
RRULE:FREQ=YEARLY;INTERVAL=1;BYDAY=-1SU;BYMONTH=10
END:STANDARD
BEGIN:DAYLIGHT
DTSTART:16010101T010000
TZOFFSETFROM:+0000
TZOFFSETTO:+0100
RRULE:FREQ=YEARLY;INTERVAL=1;BYDAY=-1SU;BYMONTH=3
END:DAYLIGHT
END:VTIMEZONE
BEGIN:VEVENT
ORGANIZER;CN=Daniele  Quercia:mailto:daniele.quercia@polito.it
ATTENDEE;ROLE=REQ-PARTICIPANT;PARTSTAT=NEEDS-ACTION;RSVP=TRUE;CN=smartdater
 s@smartdata.polito.it:mailto:smartdaters@smartdata.polito.it
ATTENDEE;ROLE=REQ-PARTICIPANT;PARTSTAT=NEEDS-ACTION;RSVP=TRUE;CN=members@sm
 artdata.polito.it:mailto:members@smartdata.polito.it
ATTENDEE;ROLE=REQ-PARTICIPANT;PARTSTAT=NEEDS-ACTION;RSVP=TRUE;CN=MINDS:mail
 to:minds@polito.it
ATTENDEE;ROLE=REQ-PARTICIPANT;PARTSTAT=NEEDS-ACTION;RSVP=TRUE;CN=HCI:mailto
 :hci@polito.it
ATTENDEE;ROLE=REQ-PARTICIPANT;PARTSTAT=NEEDS-ACTION;RSVP=TRUE;CN=nexa@serve
 r-nexa.polito.it:mailto:nexa@server-nexa.polito.it
DESCRIPTION;LANGUAGE=en-US:Anticipatory Learning and AI - Working with AI t
 o Reinvent Futures and Foresight\nNicklas Berild Lundblad\n\nJoin MS Teams
 <https://teams.microsoft.com/meet/323685154621920?p=uI8oRHMydVoHTSwfwl>\n\
 nFormat: 35 min talk + 25 min Q&A\n\nArtificial intelligence is more than 
 anything a technology that augments learning of all kinds\, including lear
 ning about the future. By exploring how we can update old techniques like 
 scenario plannings\, predictions\, premortems and narrative futures we can
  make foresight both more accessible and useful.\n\nNicklas Berild Lundbla
 d is an independent writer\, researcher and public policy expert\, with 20
  years experience of leading\, building and developing policy functions at
  companies like Google\, Stripe and DeepMind. My interests include foresig
 ht\, technology\, politics\, philosophy and science.\n\nSubscribe to futur
 e talk announcements: Anyone outside Bell Labs can receive talk announceme
 nts by subscribing to the mailing list. To subscribe\, send an empty email
  with the subject line "Subscribe RAI” to daniele.quercia@polito.it\n\n\
 n\n\n\n\n\n\n\n
UID:040000008200E00074C5B7101A82E008000000007478859A88D1DC01000000000000000
 010000000FB805E03B943534391656E858DFD056C
SUMMARY;LANGUAGE=en-US:[Responsible AI] Anticipatory Learning and AI - Work
 ing with AI to Reinvent Futures and Foresight
DTSTART;TZID=GMT Standard Time:20260427T153000
DTEND;TZID=GMT Standard Time:20260427T163000
CLASS:PUBLIC
PRIORITY:5
DTSTAMP:20260421T121815Z
TRANSP:OPAQUE
STATUS:CONFIRMED
SEQUENCE:0
X-MICROSOFT-CDO-APPT-SEQUENCE:0
X-MICROSOFT-CDO-OWNERAPPTID:2124721524
X-MICROSOFT-CDO-BUSYSTATUS:TENTATIVE
X-MICROSOFT-CDO-INTENDEDSTATUS:BUSY
X-MICROSOFT-CDO-ALLDAYEVENT:FALSE
X-MICROSOFT-CDO-IMPORTANCE:1
X-MICROSOFT-CDO-INSTTYPE:0
X-MICROSOFT-DONOTFORWARDMEETING:FALSE
X-MICROSOFT-DISALLOW-COUNTER:FALSE
X-MICROSOFT-REQUESTEDATTENDANCEMODE:DEFAULT
X-MICROSOFT-ISRESPONSEREQUESTED:TRUE
BEGIN:VALARM
DESCRIPTION:REMINDER
TRIGGER;RELATED=START:-PT15M
ACTION:DISPLAY
END:VALARM
END:VEVENT
END:VCALENDAR
